BEGIN:VCALENDAR
VERSION:2.0
PRODID:-//eventon.com NONSGML v1.0//EN
CALSCALE:GREGORIAN
METHOD:PUBLISH
BEGIN:VEVENT
UID:69e4e514ccb80
DTSTAMP:20260419T142212Z
DTSTART:20241109T160000Z
DTEND:20241110T000000Z
LOCATION:
SUMMARY:Ready\,  Set\,  Stream! with @MaestroSpooks on Twitch
DESCRIPTION:Join us for an evening of FUNdraising with MaestroSpooks on twi
 tch!\nhttps://transempowerment.org/events/ready-set-stream-with-maestrospoo
 ks-on-twitch/var/event_access
URL:https://transempowerment.org/events/ready-set-stream-with-maestrospooks-on-twitch/var/event_access
END:VEVENT
END:VCALENDAR