BEGIN:VCALENDAR
VERSION:2.0
PRODID:-//eventon.com NONSGML v1.0//EN
CALSCALE:GREGORIAN
METHOD:PUBLISH
BEGIN:VEVENT
UID:69e4ebd6ab99f
DTSTAMP:20260419T145102Z
DTSTART:20250218
DTEND:20250219
LOCATION:
SUMMARY:Lucky_Bun's Charity Stream
DESCRIPTION:Check out this awesome creator on Twitch! I'm Lucky Bun\,  a wh
 ite rabbit from Wonderland! Coming from an education background\,  my strea
 ms are about analyzing\,  criticizing\,  and understanding the games we pla
 y together\,  whether good or bad. I dedicate a day a week to playing stran
 ge or bad games and[..]\nhttps://transempowerment.org/events/lucky_buns-cha
 rity-stream/var/event_access
URL:https://transempowerment.org/events/lucky_buns-charity-stream/var/event_access
END:VEVENT
END:VCALENDAR