BEGIN:VCALENDAR
VERSION:2.0
PRODID:-//eventon.com NONSGML v1.0//EN
CALSCALE:GREGORIAN
METHOD:PUBLISH
BEGIN:VEVENT
UID:69e8d2bb3585b
DTSTAMP:20260422T135259Z
DTSTART:20250524T194000Z
DTEND:20250524T194000Z
LOCATION:
SUMMARY:Play & Give Back with LadyZuina 💞
DESCRIPTION:I’m an ally and member of the community. I’m a transgender 
 woman\,  but due to issues and traumatic experiences in the past. I don’t
  make that information publicly known\,  so I would appreciate if this info
 rmation were kept secret. I try to provide a safe space for any and all[..]
 \nhttps://transempowerment.org/events/play-give-back-with-ladyzuina/var/eve
 nt_access
URL:https://transempowerment.org/events/play-give-back-with-ladyzuina/var/event_access
END:VEVENT
END:VCALENDAR