BEGIN:VCALENDAR
VERSION:2.0
PRODID:-//eventon.com NONSGML v1.0//EN
CALSCALE:GREGORIAN
METHOD:PUBLISH
BEGIN:VEVENT
UID:69e5245f5a373
DTSTAMP:20260419T185215Z
DTSTART:20250523T000000Z
DTEND:20250523T000000Z
LOCATION:
SUMMARY:Strwbrryszn's First Charity Stream!🍓
DESCRIPTION:I’m Emi aka StrwbrrySzn\,  a cozy variety streamer focused on
  building a safe\,  kind\,  and inclusive community where we can unwind our
  minds and connect. As a bisexual woman of color who grew up struggling to 
 figure out where I fit in\,  it is so important to me to create[..]\nhttps:
 //transempowerment.org/events/strwbrryszns-first-charity-stream%f0%9f%8d%93
 /var/event_access
URL:https://transempowerment.org/events/strwbrryszns-first-charity-stream%f0%9f%8d%93/var/event_access
END:VEVENT
END:VCALENDAR