BEGIN:VCALENDAR
VERSION:2.0
PRODID:-//eventon.com NONSGML v1.0//EN
CALSCALE:GREGORIAN
METHOD:PUBLISH
BEGIN:VEVENT
UID:69e62a21a4e26
DTSTAMP:20260420T132905Z
DTSTART:20250623T192000Z
DTEND:20250629T192000Z
LOCATION:
SUMMARY:Camp Chaos 2025🏕️
DESCRIPTION:What is Camp Chaos? This Pride Month\,  from June 23–29\,  TE
 P is uniting the Twitch community for a week-long charity raid train to rai
 se $50\, 000 in support of essential programs that empower some of the most
  marginalized members of the LGBTQIA+ community. Together\,  we’re turnin
 g our platforms into power and[..]\nhttps://transempowerment.org/events/cam
 p-chaos-2025/var/event_access
URL:https://transempowerment.org/events/camp-chaos-2025/var/event_access
END:VEVENT
END:VCALENDAR